BEGIN:VCALENDAR
VERSION:2.0
PRODID:-//Tukios.com/
BEGIN:VEVENT
UID:c9742b87-a9b6-4a76-b166-2e26c9235c9b@www.ginnfuneralhome.com
DTSTAMP:20260424T002353Z
DTSTART:20260425T150000Z
DTEND:20260425T190000Z
SUMMARY:Visitation
DESCRIPTION:
URL:https://www.ginnfuneralhome.com/obituaries/carolyn-farley
LOCATION:Ginn Funeral Home 90 Church Street  Carnesville GA 30521
GEO:34.3716906;-83.2342615
END:VEVENT
END:VCALENDAR