BEGIN:VCALENDAR
VERSION:2.0
PRODID:-//Tukios.com/
BEGIN:VEVENT
UID:48b4b381-2cee-4392-86d6-a2c5c09c2bac@www.ginnfuneralhome.com
DTSTAMP:20260420T202902Z
DTSTART:20260422T184500Z
DTEND:20260422T194500Z
SUMMARY:Graveside Service
DESCRIPTION:
URL:https://www.ginnfuneralhome.com/obituaries/barbara-lanton
LOCATION: 1310 New Bethel Rd  Carnesville GA 30521
GEO:34.3946555;-83.3260642
END:VEVENT
END:VCALENDAR