BEGIN:VCALENDAR
VERSION:2.0
PRODID:-//Tukios.com/
BEGIN:VEVENT
UID:d60f1db3-b17a-4470-b9a7-2e9cfdaabc5f@www.ginnfuneralhome.com
DTSTAMP:20260420T202254Z
DTSTART:20260422T180000Z
DTEND:20260422T190000Z
SUMMARY:Funeral Service
DESCRIPTION:
URL:https://www.ginnfuneralhome.com/obituaries/barbara-lanton
LOCATION:New Bethel Baptist Church 1310 New Bethel Rd  Carnesville GA 
	30521
GEO:34.3946555;-83.3260642
END:VEVENT
END:VCALENDAR