BEGIN:VCALENDAR
VERSION:2.0
PRODID:-//Tukios.com/
BEGIN:VEVENT
UID:dbb79595-6a80-4729-a720-f83a957693f7@www.ginnfuneralhome.com
DTSTAMP:20260420T202550Z
DTSTART:20260421T220000Z
DTEND:20260422T000000Z
SUMMARY:Visitation
DESCRIPTION:
URL:https://www.ginnfuneralhome.com/obituaries/barbara-lanton
LOCATION:Ginn Funeral Home 90 Church Street  Carnesville GA 30521
GEO:34.3716906;-83.2342615
END:VEVENT
END:VCALENDAR